BEGIN:VCALENDAR
VERSION:2.0
PRODID:-//Klub Sportowy Powiśle - ECPv4.6.8//NONSGML v1.0//EN
CALSCALE:GREGORIAN
METHOD:PUBLISH
X-WR-CALNAME:Klub Sportowy Powiśle
X-ORIGINAL-URL:https://www.kspowisle.pl
X-WR-CALDESC:Events for Klub Sportowy Powiśle
BEGIN:VEVENT
DTSTART;VALUE=DATE:20160521
DTEND;VALUE=DATE:20160523
DTSTAMP:20260421T221520
CREATED:20160329T111430Z
LAST-MODIFIED:20160329T111430Z
UID:2726-1463788800-1463961599@www.kspowisle.pl
SUMMARY:14. Prague International Tournament 2016
DESCRIPTION: 
URL:https://www.kspowisle.pl/event/14-prague-international-tournament-2016/
LOCATION:U Ledáren 1557/55\, Praha\, Czech Republic
CATEGORIES:Zawody
END:VEVENT
END:VCALENDAR