BEGIN:VCALENDAR
VERSION:2.0
PRODID:-//Klub Sportowy Powiśle - ECPv4.6.8//NONSGML v1.0//EN
CALSCALE:GREGORIAN
METHOD:PUBLISH
X-WR-CALNAME:Klub Sportowy Powiśle
X-ORIGINAL-URL:https://www.kspowisle.pl
X-WR-CALDESC:Events for Klub Sportowy Powiśle
BEGIN:VEVENT
DTSTART;VALUE=DATE:20170603
DTEND;VALUE=DATE:20170606
DTSTAMP:20260421T221816
CREATED:20161019T131332Z
LAST-MODIFIED:20161019T131927Z
UID:2967-1496448000-1496707199@www.kspowisle.pl
SUMMARY:46th International Tournament of Canoe-Polo Deutschland Cup
DESCRIPTION:  \n
URL:https://www.kspowisle.pl/event/46th-international-tournament-of-canoe-polo-deutschland-cup/
LOCATION:Freiherr-Vom-Stein-Straße 206b\, Essen\, 45133
CATEGORIES:Zawody
END:VEVENT
END:VCALENDAR