BEGIN:VCALENDAR
VERSION:2.0
PRODID:-//Klub Sportowy Powiśle - ECPv4.6.8//NONSGML v1.0//EN
CALSCALE:GREGORIAN
METHOD:PUBLISH
X-WR-CALNAME:Klub Sportowy Powiśle
X-ORIGINAL-URL:https://www.kspowisle.pl
X-WR-CALDESC:Events for Klub Sportowy Powiśle
BEGIN:VEVENT
DTSTART;TZID=Europe/Warsaw:20180503T180000
DTEND;TZID=Europe/Warsaw:20180503T200000
DTSTAMP:20260422T070108
CREATED:20180409T112150Z
LAST-MODIFIED:20180409T112150Z
UID:3536-1525370400-1525377600@www.kspowisle.pl
SUMMARY:Aktywnie nad Wisłą - pierwsze zajęcia
DESCRIPTION: Zajęcia rekreacyjne\n \n
URL:https://www.kspowisle.pl/event/aktywnie-nad-wisla-pierwsze-zajecia/
LOCATION:Solec 8\, Warszawa\, Polska
CATEGORIES:Zajęcia rekreacyjne
END:VEVENT
END:VCALENDAR