BEGIN:VCALENDAR
VERSION:2.0
PRODID:-//Klub Sportowy Powiśle - ECPv4.6.8//NONSGML v1.0//EN
CALSCALE:GREGORIAN
METHOD:PUBLISH
X-WR-CALNAME:Klub Sportowy Powiśle
X-ORIGINAL-URL:https://www.kspowisle.pl
X-WR-CALDESC:Events for Klub Sportowy Powiśle
BEGIN:VEVENT
DTSTART;TZID=Europe/Warsaw:20160505T173000
DTEND;TZID=Europe/Warsaw:20160505T190000
DTSTAMP:20260422T001922
CREATED:20160329T104041Z
LAST-MODIFIED:20160329T211507Z
UID:2718-1462469400-1462474800@www.kspowisle.pl
SUMMARY:Aktywny Warszawiak - pierwsze zajęcia
DESCRIPTION: Drugi rok z rzędu Klub Sportowy Powiśle jest organizatorem zajęć rekreacyjnych z kajak polo w ramach programu „Aktywny Warszawiak”\, dofinansowanego przez miasto stołeczne Warszawę. Zajęcia są przeznaczone dla osób pełnoletnich\, odbywają się raz w tygodniu w Porcie Czerniakowskim od maja do końca września. Koszt uczestnictwa to 32 zł za miesiąc. W zajęciach mogą wziąć udział osoby\, które potrafią pływać na kajakach lub dopiero zaczynają swoją przygodę z kajakarstwem. Więcej o zajęciach i zapisach… \nZajęcia są współfinansowane przez m. st. Warszawę. \n \n
URL:https://www.kspowisle.pl/event/aktywny-warszawiak-pierwsze-zajecia/
LOCATION:Solec 8\, Warszawa\, Polska
CATEGORIES:Zajęcia rekreacyjne
END:VEVENT
END:VCALENDAR