BEGIN:VCALENDAR
VERSION:2.0
PRODID:-//Klub Sportowy Powiśle - ECPv4.6.8//NONSGML v1.0//EN
CALSCALE:GREGORIAN
METHOD:PUBLISH
X-WR-CALNAME:Klub Sportowy Powiśle
X-ORIGINAL-URL:https://www.kspowisle.pl
X-WR-CALDESC:Events for Klub Sportowy Powiśle
BEGIN:VEVENT
DTSTART;TZID=Europe/Warsaw:20150518T173000
DTEND;TZID=Europe/Warsaw:20150518T193000
DTSTAMP:20260422T050930
CREATED:20150430T203451Z
LAST-MODIFIED:20150430T203451Z
UID:2402-1431970200-1431977400@www.kspowisle.pl
SUMMARY:Aktywny Warszawiak - zajęcia rekreacyjne
DESCRIPTION: 
URL:https://www.kspowisle.pl/event/aktywny-warszawiak-zajecia-rekreacyjne-3/
LOCATION:Solec 8\, Warszawa\, Polska
CATEGORIES:Zajęcia rekreacyjne
END:VEVENT
END:VCALENDAR