BEGIN:VCALENDAR
VERSION:2.0
PRODID:-//Klub Sportowy Powiśle - ECPv4.6.8//NONSGML v1.0//EN
CALSCALE:GREGORIAN
METHOD:PUBLISH
X-WR-CALNAME:Klub Sportowy Powiśle
X-ORIGINAL-URL:https://www.kspowisle.pl
X-WR-CALDESC:Events for Klub Sportowy Powiśle
BEGIN:VEVENT
DTSTART;TZID=Europe/Warsaw:20150525T170000
DTEND;TZID=Europe/Warsaw:20150525T190000
DTSTAMP:20260422T033335
CREATED:20150430T203532Z
LAST-MODIFIED:20150525T193447Z
UID:2403-1432573200-1432580400@www.kspowisle.pl
SUMMARY:Aktywny Warszawiak - zajęcia rekreacyjne
DESCRIPTION: 
URL:https://www.kspowisle.pl/event/aktywny-warszawiak-zajecia-rekreacyjne-4/
LOCATION:Solec 8\, Warszawa\, Polska
CATEGORIES:Zajęcia rekreacyjne
END:VEVENT
END:VCALENDAR