BEGIN:VCALENDAR
VERSION:2.0
PRODID:-//Klub Sportowy Powiśle - ECPv4.6.8//NONSGML v1.0//EN
CALSCALE:GREGORIAN
METHOD:PUBLISH
X-WR-CALNAME:Klub Sportowy Powiśle
X-ORIGINAL-URL:https://www.kspowisle.pl
X-WR-CALDESC:Events for Klub Sportowy Powiśle
BEGIN:VEVENT
DTSTART;TZID=Europe/Warsaw:20150501T150000
DTEND;TZID=Europe/Warsaw:20150503T200000
DTSTAMP:20260422T050744
CREATED:20150327T103107Z
LAST-MODIFIED:20150327T103251Z
UID:2324-1430492400-1430683200@www.kspowisle.pl
SUMMARY:Eliminacje do kadry - Kaniów
DESCRIPTION: 
URL:https://www.kspowisle.pl/event/eliminacje-do-kadry-kaniow/
END:VEVENT
END:VCALENDAR