BEGIN:VCALENDAR
VERSION:2.0
PRODID:-//Klub Sportowy Powiśle - ECPv4.6.8//NONSGML v1.0//EN
CALSCALE:GREGORIAN
METHOD:PUBLISH
X-WR-CALNAME:Klub Sportowy Powiśle
X-ORIGINAL-URL:https://www.kspowisle.pl
X-WR-CALDESC:Events for Klub Sportowy Powiśle
BEGIN:VEVENT
DTSTART;VALUE=DATE:20180427
DTEND;VALUE=DATE:20180430
DTSTAMP:20260422T033401
CREATED:20180319T130416Z
LAST-MODIFIED:20180523T105135Z
UID:3346-1524787200-1525046399@www.kspowisle.pl
SUMMARY:Eliminacyjne do Kadry Narodowej  i Reprezentacji Polski w Kajak Polo.
DESCRIPTION: Wyniki_konsultacji_kajak_polo\nProgram konsultacji:\nhttp://www.pzkaj.pl/dane/2018/zapowiedz_Kaniow_27.04.2018.pdf\n  \n \n
URL:https://www.kspowisle.pl/event/eliminacyjne-do-kadry-narodowej-i-reprezentacji-polski-w-kajak-polo/
LOCATION:ul. Malinowa 6\, Kaniów\, Polska
CATEGORIES:Zawody
END:VEVENT
END:VCALENDAR