BEGIN:VCALENDAR
VERSION:2.0
PRODID:-//Klub Sportowy Powiśle - ECPv4.6.8//NONSGML v1.0//EN
CALSCALE:GREGORIAN
METHOD:PUBLISH
X-WR-CALNAME:Klub Sportowy Powiśle
X-ORIGINAL-URL:https://www.kspowisle.pl
X-WR-CALDESC:Events for Klub Sportowy Powiśle
BEGIN:VEVENT
DTSTART;VALUE=DATE:20140524
DTEND;VALUE=DATE:20140526
DTSTAMP:20260422T214431
CREATED:20140516T060223Z
LAST-MODIFIED:20140526T104134Z
UID:1499-1400889600-1401062399@www.kspowisle.pl
SUMMARY:I Puchar Europy - St Omer\, Francja
DESCRIPTION: 
URL:https://www.kspowisle.pl/event/i-puchar-europy-st-omer-francja/
CATEGORIES:Zawody
END:VEVENT
END:VCALENDAR