BEGIN:VCALENDAR
VERSION:2.0
PRODID:-//Klub Sportowy Powiśle - ECPv4.6.8//NONSGML v1.0//EN
CALSCALE:GREGORIAN
METHOD:PUBLISH
X-WR-CALNAME:Klub Sportowy Powiśle
X-ORIGINAL-URL:https://www.kspowisle.pl
X-WR-CALDESC:Events for Klub Sportowy Powiśle
BEGIN:VEVENT
DTSTART;TZID=Europe/Warsaw:20160430T100000
DTEND;TZID=Europe/Warsaw:20160430T140000
DTSTAMP:20260421T224040
CREATED:20160329T103533Z
LAST-MODIFIED:20160426T111958Z
UID:2717-1462010400-1462024800@www.kspowisle.pl
SUMMARY:Impreza rekreacyjna
DESCRIPTION: Rozpoczęcie sezonu wodniackiego na Wiśle w Warszawie. \nW ramach „Otwarcia sezonu na Wiśle” Klub Sportowy Powiśle organizuje zajęcia rekreacyjne popularyzujące kajak polo i kajakarstwo. Zajęcia będą się odbywać na Płycie Desantu oraz w Porcie Czerniakowskim. W trakcie imprezy\, która odbędzie się w niedzielę 30 kwietnia 2016 r.\, w godzinach 10-14 przewidujemy następujące atrakcje: \n10.00-11.00 – pływanie rekreacyjne na kajakach do kajak polo\n11.00-12.30 – pokazowy mecz kajak polo\n12.30-14.00 – pokazowy trening dzieci z Klubu Sportowego Powiśle \nPrzez cały czas trwania imprezy będzie prowadzone pływanie rekreacyjne na kajakach turystycznych dla dorosłych\, a na lądzie najmłodsi będą mieli okazję przebrać się w sprzęt do kajak polo i wsiąść do kajaka. \nPonadto w trakcie zajęć rekreacyjnych będzie można uzyskać informacje na temat zasad gry w kajak polo. Trenerzy Klubu Sportowego Powiśle będą zapraszać dzieci do uczęszczania na treningi kajak polo\, a dorosłych na zajęcia w ramach programu Aktywny Warszawiak. \n \n
URL:https://www.kspowisle.pl/event/impreza-rekreacyjna-2/
LOCATION:Solec 8\, Warszawa\, Polska
CATEGORIES:Zajęcia rekreacyjne
END:VEVENT
END:VCALENDAR