BEGIN:VCALENDAR
VERSION:2.0
PRODID:-//Klub Sportowy Powiśle - ECPv4.6.8//NONSGML v1.0//EN
CALSCALE:GREGORIAN
METHOD:PUBLISH
X-WR-CALNAME:Klub Sportowy Powiśle
X-ORIGINAL-URL:https://www.kspowisle.pl
X-WR-CALDESC:Events for Klub Sportowy Powiśle
BEGIN:VEVENT
DTSTART;TZID=Europe/Warsaw:20150620T100000
DTEND;TZID=Europe/Warsaw:20150620T170000
DTSTAMP:20260422T014647
CREATED:20150430T204456Z
LAST-MODIFIED:20150430T204456Z
UID:2409-1434794400-1434819600@www.kspowisle.pl
SUMMARY:Impreza rekreacyjna
DESCRIPTION: 
URL:https://www.kspowisle.pl/event/impreza-rekreacyjna/
LOCATION:Solec 8\, Warszawa\, Polska
END:VEVENT
END:VCALENDAR