BEGIN:VCALENDAR
VERSION:2.0
PRODID:-//Klub Sportowy Powiśle - ECPv4.6.8//NONSGML v1.0//EN
CALSCALE:GREGORIAN
METHOD:PUBLISH
X-WR-CALNAME:Klub Sportowy Powiśle
X-ORIGINAL-URL:https://www.kspowisle.pl
X-WR-CALDESC:Events for Klub Sportowy Powiśle
BEGIN:VEVENT
DTSTART;VALUE=DATE:20161210
DTEND;VALUE=DATE:20161212
DTSTAMP:20260421T221750
CREATED:20160923T105148Z
LAST-MODIFIED:20160923T105148Z
UID:2901-1481328000-1481500799@www.kspowisle.pl
SUMMARY:INTERNATIONAL CANOE POLO TOURNAMENT - DZŪKIJA CUP
DESCRIPTION: 
URL:https://www.kspowisle.pl/event/international-canoe-polo-tournament-dzukija-cup-2/
LOCATION:Naujoji g. 52\, Alytus\, 62381
END:VEVENT
END:VCALENDAR