BEGIN:VCALENDAR
VERSION:2.0
PRODID:-//Klub Sportowy Powiśle - ECPv4.6.8//NONSGML v1.0//EN
CALSCALE:GREGORIAN
METHOD:PUBLISH
X-WR-CALNAME:Klub Sportowy Powiśle
X-ORIGINAL-URL:https://www.kspowisle.pl
X-WR-CALDESC:Events for Klub Sportowy Powiśle
BEGIN:VEVENT
DTSTART;TZID=Europe/Warsaw:20140715T100000
DTEND;TZID=Europe/Warsaw:20140715T120000
DTSTAMP:20260423T025711
CREATED:20140625T125759Z
LAST-MODIFIED:20140625T125759Z
UID:1666-1405418400-1405425600@www.kspowisle.pl
SUMMARY:Lato w mieście
DESCRIPTION:  \n
URL:https://www.kspowisle.pl/event/lato-w-miescie-10/
LOCATION:Solec 8\, Warszawa\, Polska
END:VEVENT
END:VCALENDAR