BEGIN:VCALENDAR
VERSION:2.0
PRODID:-//Klub Sportowy Powiśle - ECPv4.6.8//NONSGML v1.0//EN
CALSCALE:GREGORIAN
METHOD:PUBLISH
X-WR-CALNAME:Klub Sportowy Powiśle
X-ORIGINAL-URL:https://www.kspowisle.pl
X-WR-CALDESC:Events for Klub Sportowy Powiśle
BEGIN:VEVENT
DTSTART;TZID=Europe/Warsaw:20140625T100000
DTEND;TZID=Europe/Warsaw:20140625T120000
DTSTAMP:20260423T025455
CREATED:20140623T183228Z
LAST-MODIFIED:20140623T183228Z
UID:1658-1403690400-1403697600@www.kspowisle.pl
SUMMARY:Lato w mieście
DESCRIPTION:  \n
URL:https://www.kspowisle.pl/event/lato-w-miescie-2/
LOCATION:Solec 8\, Warszawa\, Polska
END:VEVENT
END:VCALENDAR