BEGIN:VCALENDAR
VERSION:2.0
PRODID:-//Klub Sportowy Powiśle - ECPv4.6.8//NONSGML v1.0//EN
CALSCALE:GREGORIAN
METHOD:PUBLISH
X-WR-CALNAME:Klub Sportowy Powiśle
X-ORIGINAL-URL:https://www.kspowisle.pl
X-WR-CALDESC:Events for Klub Sportowy Powiśle
BEGIN:VEVENT
DTSTART;TZID=Europe/Warsaw:20150121T154500
DTEND;TZID=Europe/Warsaw:20150121T170000
DTSTAMP:20260422T012408
CREATED:20150120T193217Z
LAST-MODIFIED:20150120T193217Z
UID:2155-1421855100-1421859600@www.kspowisle.pl
SUMMARY:Łyżwy 15.45
DESCRIPTION: 
URL:https://www.kspowisle.pl/event/lyzwy-15-45/
LOCATION:Stanów Zjednoczonych 24\, Warszawa
END:VEVENT
END:VCALENDAR