BEGIN:VCALENDAR
VERSION:2.0
PRODID:-//Klub Sportowy Powiśle - ECPv4.6.8//NONSGML v1.0//EN
CALSCALE:GREGORIAN
METHOD:PUBLISH
X-WR-CALNAME:Klub Sportowy Powiśle
X-ORIGINAL-URL:https://www.kspowisle.pl
X-WR-CALDESC:Events for Klub Sportowy Powiśle
BEGIN:VEVENT
DTSTART;TZID=Europe/Warsaw:20150120T163000
DTEND;TZID=Europe/Warsaw:20150120T180000
DTSTAMP:20260421T234636
CREATED:20150117T125643Z
LAST-MODIFIED:20150117T125643Z
UID:2118-1421771400-1421776800@www.kspowisle.pl
SUMMARY:Łyżwy
DESCRIPTION: Wstęp – BEZPŁATNIE\nWypożyczenie łyżew 6zł/h \n
URL:https://www.kspowisle.pl/event/lyzwy/
LOCATION:Stanów Zjednoczonych 24\, Warszawa
END:VEVENT
END:VCALENDAR