BEGIN:VCALENDAR
VERSION:2.0
PRODID:-//Klub Sportowy Powiśle - ECPv4.6.8//NONSGML v1.0//EN
CALSCALE:GREGORIAN
METHOD:PUBLISH
X-WR-CALNAME:Klub Sportowy Powiśle
X-ORIGINAL-URL:https://www.kspowisle.pl
X-WR-CALDESC:Events for Klub Sportowy Powiśle
BEGIN:VEVENT
DTSTART;VALUE=DATE:20180504
DTEND;VALUE=DATE:20180507
DTSTAMP:20260422T064109
CREATED:20180319T131058Z
LAST-MODIFIED:20180523T105525Z
UID:3349-1525392000-1525651199@www.kspowisle.pl
SUMMARY:Międzynarodowy Puchar Kwisy w Kajak Polo
DESCRIPTION: Zawody w ramach Pucharu Polski 2018\nWyniki_Leśna_05.05.2018\n  \n \n\n
URL:https://www.kspowisle.pl/event/miedzynarodowy-puchar-kwisy-w-kajak-polo/
LOCATION:ul. Polna 5\, Leśna\, 59-820\, Poland
CATEGORIES:Zawody
END:VEVENT
END:VCALENDAR