BEGIN:VCALENDAR
VERSION:2.0
PRODID:-//Klub Sportowy Powiśle - ECPv4.6.8//NONSGML v1.0//EN
CALSCALE:GREGORIAN
METHOD:PUBLISH
X-WR-CALNAME:Klub Sportowy Powiśle
X-ORIGINAL-URL:https://www.kspowisle.pl
X-WR-CALDESC:Events for Klub Sportowy Powiśle
BEGIN:VEVENT
DTSTART;VALUE=DATE:20160611
DTEND;VALUE=DATE:20160613
DTSTAMP:20260421T203404
CREATED:20160329T111741Z
LAST-MODIFIED:20160330T092052Z
UID:2728-1465603200-1465775999@www.kspowisle.pl
SUMMARY:Międzynarodowy Puchar Polski vol. 2
DESCRIPTION: 
URL:https://www.kspowisle.pl/event/miedzynarodowy-puchar-polski-vol-2/
LOCATION:ul. Malinowa 6\, Kaniów\, Polska
CATEGORIES:Zawody
END:VEVENT
END:VCALENDAR