BEGIN:VCALENDAR
VERSION:2.0
PRODID:-//Klub Sportowy Powiśle - ECPv4.6.8//NONSGML v1.0//EN
CALSCALE:GREGORIAN
METHOD:PUBLISH
X-WR-CALNAME:Klub Sportowy Powiśle
X-ORIGINAL-URL:https://www.kspowisle.pl
X-WR-CALDESC:Events for Klub Sportowy Powiśle
BEGIN:VEVENT
DTSTART;VALUE=DATE:20160730
DTEND;VALUE=DATE:20160801
DTSTAMP:20260421T190348
CREATED:20160329T114130Z
LAST-MODIFIED:20160329T114130Z
UID:2738-1469836800-1470009599@www.kspowisle.pl
SUMMARY:Międzynarodowy Puchar Polski vol. 4 - finał
DESCRIPTION: 
URL:https://www.kspowisle.pl/event/miedzynarodowy-puchar-polski-vol-4-final/
LOCATION:Promenada 2\, Choszczno\, 73-200\, Poland
CATEGORIES:Zawody
END:VEVENT
END:VCALENDAR