BEGIN:VCALENDAR
VERSION:2.0
PRODID:-//Klub Sportowy Powiśle - ECPv4.6.8//NONSGML v1.0//EN
CALSCALE:GREGORIAN
METHOD:PUBLISH
X-WR-CALNAME:Klub Sportowy Powiśle
X-ORIGINAL-URL:https://www.kspowisle.pl
X-WR-CALDESC:Events for Klub Sportowy Powiśle
BEGIN:VEVENT
DTSTART;TZID=Europe/Warsaw:20161126T170000
DTEND;TZID=Europe/Warsaw:20161126T190000
DTSTAMP:20260422T012736
CREATED:20161017T202740Z
LAST-MODIFIED:20161017T202740Z
UID:2961-1480179600-1480186800@www.kspowisle.pl
SUMMARY:Nauka eskimosek na basenie
DESCRIPTION: 
URL:https://www.kspowisle.pl/event/nauka-eskimosek-na-basenie/
LOCATION:Namysłowska 8\, Warszawa\, Polska
END:VEVENT
END:VCALENDAR