BEGIN:VCALENDAR
VERSION:2.0
PRODID:-//Klub Sportowy Powiśle - ECPv4.6.8//NONSGML v1.0//EN
CALSCALE:GREGORIAN
METHOD:PUBLISH
X-WR-CALNAME:Klub Sportowy Powiśle
X-ORIGINAL-URL:https://www.kspowisle.pl
X-WR-CALDESC:Events for Klub Sportowy Powiśle
BEGIN:VEVENT
DTSTART;VALUE=DATE:20150628
DTEND;VALUE=DATE:20150712
DTSTAMP:20260421T221314
CREATED:20150109T144140Z
LAST-MODIFIED:20150109T144140Z
UID:2090-1435449600-1436659199@www.kspowisle.pl
SUMMARY:Obóz letni
DESCRIPTION: 
URL:https://www.kspowisle.pl/event/oboz-letni-2/
LOCATION:Ostrów Pieckowski\, 11-710\, Polska
END:VEVENT
END:VCALENDAR