BEGIN:VCALENDAR
VERSION:2.0
PRODID:-//Klub Sportowy Powiśle - ECPv4.6.8//NONSGML v1.0//EN
CALSCALE:GREGORIAN
METHOD:PUBLISH
X-WR-CALNAME:Klub Sportowy Powiśle
X-ORIGINAL-URL:https://www.kspowisle.pl
X-WR-CALDESC:Events for Klub Sportowy Powiśle
BEGIN:VEVENT
DTSTART;VALUE=DATE:20160627
DTEND;VALUE=DATE:20160711
DTSTAMP:20260421T171801
CREATED:20151212T143641Z
LAST-MODIFIED:20160329T212644Z
UID:2573-1466985600-1468195199@www.kspowisle.pl
SUMMARY:Obóz letni
DESCRIPTION: Obóz letni organizowany jest dla grupy dzieci\, młodzików i juniorów (8-16 lat\, rocznik 2008 i starsi). W obozie mogą wziąć udział również dzieci\, które dotychczas nie uczestniczyły w treningach kajak polo w naszym klubie. W cenę obozu wchodzą: przejazdy autokarem\, sprzęt do kajak polo\, zakwaterowanie i wyżywienie (3 posiłki + podwieczorek)\, ubezpieczenie NNW sport\, opieka trenerów. Więcej o obozie i zapisach… \nWyjazd na obóz zawodników KS Powiśle dofinansowany jest ze środków m. st. Warszawy. \n \n
URL:https://www.kspowisle.pl/event/oboz-letni-3/
LOCATION:Święta Lipka\, Reszel\, 11-440\, Poland
END:VEVENT
END:VCALENDAR