BEGIN:VCALENDAR
VERSION:2.0
PRODID:-//Klub Sportowy Powiśle - ECPv4.6.8//NONSGML v1.0//EN
CALSCALE:GREGORIAN
METHOD:PUBLISH
X-WR-CALNAME:Klub Sportowy Powiśle
X-ORIGINAL-URL:https://www.kspowisle.pl
X-WR-CALDESC:Events for Klub Sportowy Powiśle
BEGIN:VEVENT
DTSTART;VALUE=DATE:20170211
DTEND;VALUE=DATE:20170219
DTSTAMP:20260421T204454
CREATED:20160912T104613Z
LAST-MODIFIED:20160923T105637Z
UID:2887-1486771200-1487462399@www.kspowisle.pl
SUMMARY:Obóz zimowy
DESCRIPTION: 
URL:https://www.kspowisle.pl/event/oboz-zimowy-2/
END:VEVENT
END:VCALENDAR