BEGIN:VCALENDAR
VERSION:2.0
PRODID:-//Klub Sportowy Powiśle - ECPv4.6.8//NONSGML v1.0//EN
CALSCALE:GREGORIAN
METHOD:PUBLISH
X-WR-CALNAME:Klub Sportowy Powiśle
X-ORIGINAL-URL:https://www.kspowisle.pl
X-WR-CALDESC:Events for Klub Sportowy Powiśle
BEGIN:VEVENT
DTSTART;VALUE=DATE:20180113
DTEND;VALUE=DATE:20180121
DTSTAMP:20260421T235854
CREATED:20180319T121702Z
LAST-MODIFIED:20180319T124029Z
UID:3324-1515801600-1516492799@www.kspowisle.pl
SUMMARY:Obóz zimowy 2018
DESCRIPTION: Zdjęcia z obozu zimowego:\nhttps://www.facebook.com/pg/KlubSportowyPowisle/photos/?tab=album&album_id=1249081158526903\n
URL:https://www.kspowisle.pl/event/oboz-zimowy-2018/
LOCATION:Piastowska 27\, Szklarska Poręba\, 58-580\, Polska
CATEGORIES:Zgrupowania
END:VEVENT
END:VCALENDAR