BEGIN:VCALENDAR
VERSION:2.0
PRODID:-//Klub Sportowy Powiśle - ECPv4.6.8//NONSGML v1.0//EN
CALSCALE:GREGORIAN
METHOD:PUBLISH
X-WR-CALNAME:Klub Sportowy Powiśle
X-ORIGINAL-URL:https://www.kspowisle.pl
X-WR-CALDESC:Events for Klub Sportowy Powiśle
BEGIN:VEVENT
DTSTART;TZID=Europe/Warsaw:20141230T170000
DTEND;TZID=Europe/Warsaw:20141230T181500
DTSTAMP:20260422T160133
CREATED:20141225T132932Z
LAST-MODIFIED:20141225T133041Z
UID:2027-1419958800-1419963300@www.kspowisle.pl
SUMMARY:Powiśle idzie na Łyżwy
DESCRIPTION: We wtorek po Świętach zamiast treningu wybieramy się na łyżwy na Stadion Narodowy.\nIdziemy na LODOWISKO A 17.00-18.15\nSzczegóły proszę sprawdzić na zimowynarodowy.pl \nBilet ulgowy 10zł\nBilet normalny 13zł\nWypożyczenie łyżew 10zł \nBilety można kupić wcześniej przez internet\, chętnym mogę zamówić (Krysia). \n
URL:https://www.kspowisle.pl/event/powisle-idzie-na-lyzwy/
END:VEVENT
END:VCALENDAR