BEGIN:VCALENDAR
VERSION:2.0
PRODID:-//Klub Sportowy Powiśle - ECPv4.6.8//NONSGML v1.0//EN
CALSCALE:GREGORIAN
METHOD:PUBLISH
X-WR-CALNAME:Klub Sportowy Powiśle
X-ORIGINAL-URL:https://www.kspowisle.pl
X-WR-CALDESC:Events for Klub Sportowy Powiśle
BEGIN:VEVENT
DTSTART;VALUE=DATE:20140712
DTEND;VALUE=DATE:20140714
DTSTAMP:20260422T233247
CREATED:20140602T163657Z
LAST-MODIFIED:20140602T163657Z
UID:1596-1405123200-1405295999@www.kspowisle.pl
SUMMARY:Puchar Polski w Choszcznie
DESCRIPTION: 
URL:https://www.kspowisle.pl/event/puchar-polski-w-choszcznie/
LOCATION:Promenada 2\, Choszczno\, 73-200\, Poland
END:VEVENT
END:VCALENDAR