BEGIN:VCALENDAR
VERSION:2.0
PRODID:-//Klub Sportowy Powiśle - ECPv4.6.8//NONSGML v1.0//EN
CALSCALE:GREGORIAN
METHOD:PUBLISH
X-WR-CALNAME:Klub Sportowy Powiśle
X-ORIGINAL-URL:https://www.kspowisle.pl
X-WR-CALDESC:Events for Klub Sportowy Powiśle
BEGIN:VEVENT
DTSTART;VALUE=DATE:20150912
DTEND;VALUE=DATE:20150913
DTSTAMP:20260421T204009
CREATED:20150902T121152Z
LAST-MODIFIED:20150902T121152Z
UID:2490-1442016000-1442102399@www.kspowisle.pl
SUMMARY:Święto Wisły
DESCRIPTION: 
URL:https://www.kspowisle.pl/event/swieto-wisly/
LOCATION:Solec 8\, Warszawa\, Polska
END:VEVENT
END:VCALENDAR