BEGIN:VCALENDAR
VERSION:2.0
PRODID:-//Klub Sportowy Powiśle - ECPv4.6.8//NONSGML v1.0//EN
CALSCALE:GREGORIAN
METHOD:PUBLISH
X-WR-CALNAME:Klub Sportowy Powiśle
X-ORIGINAL-URL:https://www.kspowisle.pl
X-WR-CALDESC:Events for Klub Sportowy Powiśle
BEGIN:VEVENT
DTSTART;TZID=Europe/Warsaw:20150516T150000
DTEND;TZID=Europe/Warsaw:20150516T180000
DTSTAMP:20260422T101608
CREATED:20150430T202504Z
LAST-MODIFIED:20150430T202504Z
UID:2396-1431788400-1431799200@www.kspowisle.pl
SUMMARY:Szkolenie dla nauczycieli
DESCRIPTION: Zapisy: https://kursy.wcies.edu.pl/pl/Szkolenia-w-zakresie-wychowania-fizycznego-edukacji-dla-bezpieczenstwa-techniki-i-wychowania-komunikacyjnego \n
URL:https://www.kspowisle.pl/event/szkolenie-dla-nauczycieli/
LOCATION:Solec 8\, Warszawa\, Polska
END:VEVENT
END:VCALENDAR