BEGIN:VCALENDAR
VERSION:2.0
PRODID:-//Klub Sportowy Powiśle - ECPv4.6.8//NONSGML v1.0//EN
CALSCALE:GREGORIAN
METHOD:PUBLISH
X-WR-CALNAME:Klub Sportowy Powiśle
X-ORIGINAL-URL:https://www.kspowisle.pl
X-WR-CALDESC:Events for Klub Sportowy Powiśle
BEGIN:VEVENT
DTSTART;TZID=Europe/Warsaw:20140620T100000
DTEND;TZID=Europe/Warsaw:20140620T120000
DTSTAMP:20260422T233205
CREATED:20140516T061352Z
LAST-MODIFIED:20140516T061352Z
UID:1515-1403258400-1403265600@www.kspowisle.pl
SUMMARY:Trening dzieci i młodzików
DESCRIPTION: 
URL:https://www.kspowisle.pl/event/trening-dzieci-i-mlodzikow-15/
LOCATION:Solec 8\, Warszawa\, Polska
END:VEVENT
END:VCALENDAR