BEGIN:VCALENDAR
VERSION:2.0
PRODID:-//Klub Sportowy Powiśle - ECPv4.6.8//NONSGML v1.0//EN
CALSCALE:GREGORIAN
METHOD:PUBLISH
X-WR-CALNAME:Klub Sportowy Powiśle
X-ORIGINAL-URL:https://www.kspowisle.pl
X-WR-CALDESC:Events for Klub Sportowy Powiśle
BEGIN:VEVENT
DTSTART;TZID=Europe/Warsaw:20140628T120000
DTEND;TZID=Europe/Warsaw:20140628T140000
DTSTAMP:20260423T025659
CREATED:20140516T062111Z
LAST-MODIFIED:20140516T062111Z
UID:1519-1403956800-1403964000@www.kspowisle.pl
SUMMARY:Trening dzieci i młodzików
DESCRIPTION: 
URL:https://www.kspowisle.pl/event/trening-dzieci-i-mlodzikow-19/
LOCATION:Solec 8\, Warszawa\, Polska
END:VEVENT
END:VCALENDAR