BEGIN:VCALENDAR
VERSION:2.0
PRODID:-//Klub Sportowy Powiśle - ECPv4.6.8//NONSGML v1.0//EN
CALSCALE:GREGORIAN
METHOD:PUBLISH
X-WR-CALNAME:Klub Sportowy Powiśle
X-ORIGINAL-URL:https://www.kspowisle.pl
X-WR-CALDESC:Events for Klub Sportowy Powiśle
BEGIN:VEVENT
DTSTART;TZID=Europe/Warsaw:20140509T163000
DTEND;TZID=Europe/Warsaw:20140509T183000
DTSTAMP:20260423T005452
CREATED:20140507T194349Z
LAST-MODIFIED:20140507T194420Z
UID:1487-1399653000-1399660200@www.kspowisle.pl
SUMMARY:Trening dzieci i młodzików
DESCRIPTION: 
URL:https://www.kspowisle.pl/event/trening-dzieci-i-mlodzikow-2/
LOCATION:Solec 8\, Warszawa\, Polska
CATEGORIES:Trening dzieci
END:VEVENT
END:VCALENDAR