BEGIN:VCALENDAR
VERSION:2.0
PRODID:-//Klub Sportowy Powiśle - ECPv4.6.8//NONSGML v1.0//EN
CALSCALE:GREGORIAN
METHOD:PUBLISH
X-WR-CALNAME:Klub Sportowy Powiśle
X-ORIGINAL-URL:https://www.kspowisle.pl
X-WR-CALDESC:Events for Klub Sportowy Powiśle
BEGIN:VEVENT
DTSTART;TZID=Europe/Warsaw:20140514T163000
DTEND;TZID=Europe/Warsaw:20140514T183000
DTSTAMP:20260423T023648
CREATED:20140507T194544Z
LAST-MODIFIED:20140507T194556Z
UID:1488-1400085000-1400092200@www.kspowisle.pl
SUMMARY:Trening dzieci i młodzików
DESCRIPTION: 
URL:https://www.kspowisle.pl/event/trening-dzieci-i-mlodzikow-3/
CATEGORIES:Trening dzieci
END:VEVENT
END:VCALENDAR