BEGIN:VCALENDAR
VERSION:2.0
PRODID:-//Klub Sportowy Powiśle - ECPv4.6.8//NONSGML v1.0//EN
CALSCALE:GREGORIAN
METHOD:PUBLISH
X-WR-CALNAME:Klub Sportowy Powiśle
X-ORIGINAL-URL:https://www.kspowisle.pl
X-WR-CALDESC:Events for Klub Sportowy Powiśle
BEGIN:VEVENT
DTSTART;TZID=Europe/Warsaw:20140906T120000
DTEND;TZID=Europe/Warsaw:20140906T140000
DTSTAMP:20260423T091404
CREATED:20140831T154854Z
LAST-MODIFIED:20140831T154854Z
UID:1823-1410004800-1410012000@www.kspowisle.pl
SUMMARY:Trening dzieci i młodzików
DESCRIPTION: 
URL:https://www.kspowisle.pl/event/trening-dzieci-i-mlodzikow-36/
LOCATION:Solec 8\, Warszawa\, Polska
END:VEVENT
END:VCALENDAR