BEGIN:VCALENDAR
VERSION:2.0
PRODID:-//Klub Sportowy Powiśle - ECPv4.6.8//NONSGML v1.0//EN
CALSCALE:GREGORIAN
METHOD:PUBLISH
X-WR-CALNAME:Klub Sportowy Powiśle
X-ORIGINAL-URL:https://www.kspowisle.pl
X-WR-CALDESC:Events for Klub Sportowy Powiśle
BEGIN:VEVENT
DTSTART;TZID=Europe/Warsaw:20140912T163000
DTEND;TZID=Europe/Warsaw:20140912T183000
DTSTAMP:20260423T012414
CREATED:20140904T054334Z
LAST-MODIFIED:20140904T054334Z
UID:1831-1410539400-1410546600@www.kspowisle.pl
SUMMARY:Trening dzieci i młodzików
DESCRIPTION: 
URL:https://www.kspowisle.pl/event/trening-dzieci-i-mlodzikow-40/
LOCATION:Solec 8\, Warszawa\, Polska
END:VEVENT
END:VCALENDAR