BEGIN:VCALENDAR
VERSION:2.0
PRODID:-//Klub Sportowy Powiśle - ECPv4.6.8//NONSGML v1.0//EN
CALSCALE:GREGORIAN
METHOD:PUBLISH
X-WR-CALNAME:Klub Sportowy Powiśle
X-ORIGINAL-URL:https://www.kspowisle.pl
X-WR-CALDESC:Events for Klub Sportowy Powiśle
BEGIN:VEVENT
DTSTART;VALUE=DATE:20140924
DTEND;VALUE=DATE:20140929
DTSTAMP:20260423T043429
CREATED:20140904T054853Z
LAST-MODIFIED:20140904T055201Z
UID:1837-1411516800-1411948799@www.kspowisle.pl
SUMMARY:Mistrzostwa Świata w Kajak Polo 
DESCRIPTION: 
URL:https://www.kspowisle.pl/event/trening-dzieci-i-mlodzikow-46/
LOCATION:ul. Polna 5\, Leśna\, 59-820\, Poland
END:VEVENT
END:VCALENDAR