BEGIN:VCALENDAR
VERSION:2.0
PRODID:-//Klub Sportowy Powiśle - ECPv4.6.8//NONSGML v1.0//EN
CALSCALE:GREGORIAN
METHOD:PUBLISH
X-WR-CALNAME:Klub Sportowy Powiśle
X-ORIGINAL-URL:https://www.kspowisle.pl
X-WR-CALDESC:Events for Klub Sportowy Powiśle
BEGIN:VEVENT
DTSTART;TZID=Europe/Warsaw:20140521T163000
DTEND;TZID=Europe/Warsaw:20140521T183000
DTSTAMP:20260423T025617
CREATED:20140508T071900Z
LAST-MODIFIED:20140508T071900Z
UID:1493-1400689800-1400697000@www.kspowisle.pl
SUMMARY:Trening dzieci i młodzików
DESCRIPTION: 
URL:https://www.kspowisle.pl/event/trening-dzieci-i-mlodzikow-7/
LOCATION:Solec 8\, Warszawa\, Polska
END:VEVENT
END:VCALENDAR