BEGIN:VCALENDAR
VERSION:2.0
PRODID:-//Klub Sportowy Powiśle - ECPv4.6.8//NONSGML v1.0//EN
CALSCALE:GREGORIAN
METHOD:PUBLISH
X-WR-CALNAME:Klub Sportowy Powiśle
X-ORIGINAL-URL:https://www.kspowisle.pl
X-WR-CALDESC:Events for Klub Sportowy Powiśle
BEGIN:VEVENT
DTSTART;TZID=Europe/Warsaw:20140528T163000
DTEND;TZID=Europe/Warsaw:20140528T183000
DTSTAMP:20260423T011657
CREATED:20140508T071938Z
LAST-MODIFIED:20140508T071948Z
UID:1495-1401294600-1401301800@www.kspowisle.pl
SUMMARY:Trening dzieci i młodzików
DESCRIPTION: 
URL:https://www.kspowisle.pl/event/trening-dzieci-i-mlodzikow-8/
LOCATION:Solec 8\, Warszawa\, Polska
END:VEVENT
END:VCALENDAR