BEGIN:VCALENDAR
VERSION:2.0
PRODID:-//Klub Sportowy Powiśle - ECPv4.6.8//NONSGML v1.0//EN
CALSCALE:GREGORIAN
METHOD:PUBLISH
X-WR-CALNAME:Klub Sportowy Powiśle
X-ORIGINAL-URL:https://www.kspowisle.pl
X-WR-CALDESC:Events for Klub Sportowy Powiśle
BEGIN:VEVENT
DTSTART;TZID=Europe/Warsaw:20150509T110000
DTEND;TZID=Europe/Warsaw:20150509T130000
DTSTAMP:20260422T035142
CREATED:20150430T200342Z
LAST-MODIFIED:20150430T200342Z
UID:2389-1431169200-1431176400@www.kspowisle.pl
SUMMARY:Trening dzieci\, młodzików i juniorów mł.
DESCRIPTION: 
URL:https://www.kspowisle.pl/event/trening-dzieci-mlodzikow-i-juniorow-ml/
LOCATION:Solec 8\, Warszawa\, Polska
END:VEVENT
END:VCALENDAR