BEGIN:VCALENDAR
VERSION:2.0
PRODID:-//Klub Sportowy Powiśle - ECPv4.6.8//NONSGML v1.0//EN
CALSCALE:GREGORIAN
METHOD:PUBLISH
X-WR-CALNAME:Klub Sportowy Powiśle
X-ORIGINAL-URL:https://www.kspowisle.pl
X-WR-CALDESC:Events for Klub Sportowy Powiśle
BEGIN:VEVENT
DTSTART;TZID=Europe/Warsaw:20140622T110000
DTEND;TZID=Europe/Warsaw:20140622T140000
DTSTAMP:20260422T214246
CREATED:20140622T063245Z
LAST-MODIFIED:20140907T213146Z
UID:1646-1403434800-1403445600@www.kspowisle.pl
SUMMARY:Warszawa gra w kajak polo
DESCRIPTION: Grupa zaawansowana \n \n \n
URL:https://www.kspowisle.pl/event/trening-grupy-rekreacyjnej-2/
LOCATION:Solec 8\, Warszawa\, Polska
CATEGORIES:Zajęcia rekreacyjne
END:VEVENT
END:VCALENDAR