BEGIN:VCALENDAR
VERSION:2.0
PRODID:-//Klub Sportowy Powiśle - ECPv4.6.8//NONSGML v1.0//EN
CALSCALE:GREGORIAN
METHOD:PUBLISH
X-WR-CALNAME:Klub Sportowy Powiśle
X-ORIGINAL-URL:https://www.kspowisle.pl
X-WR-CALDESC:Events for Klub Sportowy Powiśle
BEGIN:VEVENT
DTSTART;TZID=Europe/Warsaw:20140630T170000
DTEND;TZID=Europe/Warsaw:20140630T190000
DTSTAMP:20260423T011927
CREATED:20140630T090224Z
LAST-MODIFIED:20140907T213624Z
UID:1697-1404147600-1404154800@www.kspowisle.pl
SUMMARY:Warszawa gra w kajak polo
DESCRIPTION:   \n \n\n\n\n \n
URL:https://www.kspowisle.pl/event/trening-grupy-rekreacyjnej-6/
LOCATION:Solec 8\, Warszawa\, Polska
CATEGORIES:Zajęcia rekreacyjne
END:VEVENT
END:VCALENDAR