BEGIN:VCALENDAR
VERSION:2.0
PRODID:-//Klub Sportowy Powiśle - ECPv4.6.8//NONSGML v1.0//EN
CALSCALE:GREGORIAN
METHOD:PUBLISH
X-WR-CALNAME:Klub Sportowy Powiśle
X-ORIGINAL-URL:https://www.kspowisle.pl
X-WR-CALDESC:Events for Klub Sportowy Powiśle
BEGIN:VEVENT
DTSTART;TZID=Europe/Warsaw:20140616T170000
DTEND;TZID=Europe/Warsaw:20140616T190000
DTSTAMP:20260422T215130
CREATED:20140630T090940Z
LAST-MODIFIED:20140907T212901Z
UID:1699-1402938000-1402945200@www.kspowisle.pl
SUMMARY:Trening grupy rekreacyjnej zaawansowanej - Warszawa gra w kajak polo
DESCRIPTION: \n \n\n\n\n \n
URL:https://www.kspowisle.pl/event/trening-grupy-rekreacyjnej-zaawansowanej-3/
LOCATION:Solec 8\, Warszawa\, Polska
CATEGORIES:Zajęcia rekreacyjne
END:VEVENT
END:VCALENDAR