BEGIN:VCALENDAR
VERSION:2.0
PRODID:-//Klub Sportowy Powiśle - ECPv4.6.8//NONSGML v1.0//EN
CALSCALE:GREGORIAN
METHOD:PUBLISH
X-WR-CALNAME:Klub Sportowy Powiśle
X-ORIGINAL-URL:https://www.kspowisle.pl
X-WR-CALDESC:Events for Klub Sportowy Powiśle
BEGIN:VEVENT
DTSTART;TZID=Europe/Warsaw:20150624T170000
DTEND;TZID=Europe/Warsaw:20150624T190000
DTSTAMP:20260422T014438
CREATED:20150601T142719Z
LAST-MODIFIED:20150601T142719Z
UID:2450-1435165200-1435172400@www.kspowisle.pl
SUMMARY:Trening młodzików i jun.mł
DESCRIPTION: 
URL:https://www.kspowisle.pl/event/trening-mlodzikow-i-jun-ml-5/
LOCATION:Solec 8\, Warszawa\, Polska
END:VEVENT
END:VCALENDAR