BEGIN:VCALENDAR
VERSION:2.0
PRODID:-//Klub Sportowy Powiśle - ECPv4.6.8//NONSGML v1.0//EN
CALSCALE:GREGORIAN
METHOD:PUBLISH
X-WR-CALNAME:Klub Sportowy Powiśle
X-ORIGINAL-URL:https://www.kspowisle.pl
X-WR-CALDESC:Events for Klub Sportowy Powiśle
BEGIN:VEVENT
DTSTART;TZID=Europe/Warsaw:20150515T170000
DTEND;TZID=Europe/Warsaw:20150515T190000
DTSTAMP:20260422T065719
CREATED:20150430T201313Z
LAST-MODIFIED:20150430T201313Z
UID:2395-1431709200-1431716400@www.kspowisle.pl
SUMMARY:Trening młodzików i juniorów mł.
DESCRIPTION: 
URL:https://www.kspowisle.pl/event/trening-mlodzikow-i-juniorow-ml-4/
LOCATION:Solec 8\, Warszawa\, Polska
END:VEVENT
END:VCALENDAR