BEGIN:VCALENDAR
VERSION:2.0
PRODID:-//Klub Sportowy Powiśle - ECPv4.6.8//NONSGML v1.0//EN
CALSCALE:GREGORIAN
METHOD:PUBLISH
X-WR-CALNAME:Klub Sportowy Powiśle
X-ORIGINAL-URL:https://www.kspowisle.pl
X-WR-CALDESC:Events for Klub Sportowy Powiśle
BEGIN:VEVENT
DTSTART;TZID=Europe/Warsaw:20150306T164500
DTEND;TZID=Europe/Warsaw:20150306T181500
DTSTAMP:20260422T082924
CREATED:20150213T145416Z
LAST-MODIFIED:20150213T145416Z
UID:2204-1425660300-1425665700@www.kspowisle.pl
SUMMARY:Trening na basenie
DESCRIPTION: 
URL:https://www.kspowisle.pl/event/trening-na-basenie-13/
LOCATION:Myśliwiecka 6\, Warszawa\, Polska
END:VEVENT
END:VCALENDAR