BEGIN:VCALENDAR
VERSION:2.0
PRODID:-//Klub Sportowy Powiśle - ECPv4.6.8//NONSGML v1.0//EN
CALSCALE:GREGORIAN
METHOD:PUBLISH
X-WR-CALNAME:Klub Sportowy Powiśle
X-ORIGINAL-URL:https://www.kspowisle.pl
X-WR-CALDESC:Events for Klub Sportowy Powiśle
BEGIN:VEVENT
DTSTART;TZID=Europe/Warsaw:20141121T163000
DTEND;TZID=Europe/Warsaw:20141121T180000
DTSTAMP:20260423T023514
CREATED:20141119T091141Z
LAST-MODIFIED:20141119T091141Z
UID:1930-1416587400-1416592800@www.kspowisle.pl
SUMMARY:Trening na basenie
DESCRIPTION: Trening na basenie pływackim\, ul.Namysłowska 8\n \n
URL:https://www.kspowisle.pl/event/trening-na-basenie/
LOCATION:Namysłowska 8\, Warszawa\, Polska
CATEGORIES:Trening dzieci
END:VEVENT
END:VCALENDAR