BEGIN:VCALENDAR
VERSION:2.0
PRODID:-//Klub Sportowy Powiśle - ECPv4.6.8//NONSGML v1.0//EN
CALSCALE:GREGORIAN
METHOD:PUBLISH
X-WR-CALNAME:Klub Sportowy Powiśle
X-ORIGINAL-URL:https://www.kspowisle.pl
X-WR-CALDESC:Events for Klub Sportowy Powiśle
BEGIN:VEVENT
DTSTART;TZID=Europe/Warsaw:20150310T163000
DTEND;TZID=Europe/Warsaw:20150310T180000
DTSTAMP:20260422T062037
CREATED:20150213T144910Z
LAST-MODIFIED:20150213T144910Z
UID:2196-1426005000-1426010400@www.kspowisle.pl
SUMMARY:Trening na sali
DESCRIPTION: 
URL:https://www.kspowisle.pl/event/trening-na-sali-13/
END:VEVENT
END:VCALENDAR