BEGIN:VCALENDAR
VERSION:2.0
PRODID:-//Klub Sportowy Powiśle - ECPv4.6.8//NONSGML v1.0//EN
CALSCALE:GREGORIAN
METHOD:PUBLISH
X-WR-CALNAME:Klub Sportowy Powiśle
X-ORIGINAL-URL:https://www.kspowisle.pl
X-WR-CALDESC:Events for Klub Sportowy Powiśle
BEGIN:VEVENT
DTSTART;TZID=Europe/Warsaw:20150317T163000
DTEND;TZID=Europe/Warsaw:20150317T180000
DTSTAMP:20260422T093629
CREATED:20150213T144944Z
LAST-MODIFIED:20150213T144944Z
UID:2197-1426609800-1426615200@www.kspowisle.pl
SUMMARY:Trening na sali
DESCRIPTION: 
URL:https://www.kspowisle.pl/event/trening-na-sali-14/
END:VEVENT
END:VCALENDAR