BEGIN:VCALENDAR
VERSION:2.0
PRODID:-//Klub Sportowy Powiśle - ECPv4.6.8//NONSGML v1.0//EN
CALSCALE:GREGORIAN
METHOD:PUBLISH
X-WR-CALNAME:Klub Sportowy Powiśle
X-ORIGINAL-URL:https://www.kspowisle.pl
X-WR-CALDESC:Events for Klub Sportowy Powiśle
BEGIN:VEVENT
DTSTART;TZID=Europe/Warsaw:20150324T163000
DTEND;TZID=Europe/Warsaw:20150324T180000
DTSTAMP:20260422T093434
CREATED:20150213T145019Z
LAST-MODIFIED:20150213T145019Z
UID:2198-1427214600-1427220000@www.kspowisle.pl
SUMMARY:Trening na sali
DESCRIPTION: 
URL:https://www.kspowisle.pl/event/trening-na-sali-15/
END:VEVENT
END:VCALENDAR