BEGIN:VCALENDAR
VERSION:2.0
PRODID:-//Klub Sportowy Powiśle - ECPv4.6.8//NONSGML v1.0//EN
CALSCALE:GREGORIAN
METHOD:PUBLISH
X-WR-CALNAME:Klub Sportowy Powiśle
X-ORIGINAL-URL:https://www.kspowisle.pl
X-WR-CALDESC:Events for Klub Sportowy Powiśle
BEGIN:VEVENT
DTSTART;TZID=Europe/Warsaw:20150325T104500
DTEND;TZID=Europe/Warsaw:20150325T181500
DTSTAMP:20260422T095313
CREATED:20150213T145328Z
LAST-MODIFIED:20150213T145328Z
UID:2203-1427280300-1427307300@www.kspowisle.pl
SUMMARY:Trening na sali
DESCRIPTION: 
URL:https://www.kspowisle.pl/event/trening-na-sali-20/
LOCATION:Myśliwiecka 6\, Warszawa\, Polska
END:VEVENT
END:VCALENDAR