BEGIN:VCALENDAR
VERSION:2.0
PRODID:-//Klub Sportowy Powiśle - ECPv4.6.8//NONSGML v1.0//EN
CALSCALE:GREGORIAN
METHOD:PUBLISH
X-WR-CALNAME:Klub Sportowy Powiśle
X-ORIGINAL-URL:https://www.kspowisle.pl
X-WR-CALDESC:Events for Klub Sportowy Powiśle
BEGIN:VEVENT
DTSTART;TZID=Europe/Warsaw:20150210T163000
DTEND;TZID=Europe/Warsaw:20150210T180000
DTSTAMP:20260422T063701
CREATED:20150118T191909Z
LAST-MODIFIED:20150118T191909Z
UID:2131-1423585800-1423591200@www.kspowisle.pl
SUMMARY:Trening na sali
DESCRIPTION: 
URL:https://www.kspowisle.pl/event/trening-na-sali-5/
END:VEVENT
END:VCALENDAR